Workbook

Sheet 様式第1号
A1: （様式第1号） | I1: 申請日：
A3: 山口県薬局光熱費高騰対策支援金支給申請書（令和８年度）
D5: 申請者： | F5: 開設者住所
E6: 開設者名 （法人又は個人名称）
D7: 代表者職・氏名 （個人開設の場合は不要） | J7: ・
D8: ※法人の場合は、主たる事務所の所在地及び法人の名称、代表者の役職及び氏名を記入
A10: 山口県薬局光熱費高騰対策支援金事務局 様
A12: 標記について、次により支援金を支給されるよう申請します。
A14: １ 申請額
B15: 薬局名称 | E15: 所在地 | K15: 保険薬局コード | L15: 申請額(円)
N16: 0 | O16: =REPT("0",7-LEN(K16))&K16 -> 0000000
N17: 30000 | O17: =REPT("0",7-LEN(K17))&K17 -> 0000000
O18: =REPT("0",7-LEN(K18))&K18 -> 0000000
O19: =REPT("0",7-LEN(K19))&K19 -> 0000000
O20: =REPT("0",7-LEN(K20))&K20 -> 0000000
O21: =REPT("0",7-LEN(K21))&K21 -> 0000000
O22: =REPT("0",7-LEN(K22))&K22 -> 0000000
O23: =REPT("0",7-LEN(K23))&K23 -> 0000000
O24: =REPT("0",7-LEN(K24))&K24 -> 0000000
O25: =REPT("0",7-LEN(K25))&K25 -> 0000000
O26: =REPT("0",7-LEN(K26))&K26 -> 0000000
O27: =REPT("0",7-LEN(K27))&K27 -> 0000000
O28: =REPT("0",7-LEN(K28))&K28 -> 0000000
O29: =REPT("0",7-LEN(K29))&K29 -> 0000000
... O45: =REPT("0",7-LEN(K45))&K45 -> 0000000
B46: 合 計 | L46: =SUM(L16:L45) -> 0
B47: ※申請額は、１薬局３０，０００円（一律）です。
A49: ２ 支援金振込先口座情報 | E49: ※令和7年度の申請と同じ口座の場合は右枠に✓を記入(書類添付省略可)→
B50: 支 援 金 振込口座 | C50: 銀行コード （半角数字） | D50: 銀行名 （半角ｶﾅ） | E50: 支店番号 （半角数字） | F50: 支店名 （半角ｶﾅ） | I50: 預金種目 （普通：1、当座：2） | K50: 口座番号（半角数字）
N51: =ASC(C51) | O51: =ASC(D51)
C52: 口座名義人（半角ｶﾅ） | N52: =ASC(E51) | O52: =ASC(F51)
N53: =ASC(I51) | O53: =ASC(K51)
B54: ※振込口座は、原則として法人の場合は当該法人、個人事業主の場合はご本人の口座に限ります。 | N54: =ASC(C53)
B55: それ以外の口座を指定する場合は、当該口座名義人に対する委任状を提出してください。 | N55: 1
B56: ※口座情報がわかる書類（通帳の表紙および裏表紙のコピー）を添付してください。 | N56: 2
B57: なお、令和７年度（１回目、２回目、どちらか一方でも可）に支給を受けており、同じ口座で
B58: 申請する場合、上記２の記入は必要ですが、書類の添付は不要です。
A60: ３ 誓約
B61: (1) 申請する薬局について、令和８年９月１日時点で、山口県内に開設(休止を除く)しています。 (2) 申請日時点で事業活動を実施しており、今後も継続する意思があります。 (3) 申請内容に虚偽はありません。 (4) 暴力団員による不当な行為の防止等に関する法律第２条第２号に規定する暴力団及び第 ２条第６号に規定する暴力団員に該当しません。また、代表者又は役員等が、暴力団又は 暴力団員と社会的に非難されるべき関係を有していません。 (5) 県税の滞納はありません。 (6) 支給対象要件に該当しない事実や不正等が発覚した場合は、速やかに支援金の返還に応じます。
B63: 私は、山口県薬局光熱費高騰対策支援金を申請するにあたり、上記の内容について事実に相違ないことを確認の上、誓約します。 | H63: 誓約する場合、以下に✔を記入
B66: 連絡窓口 | C66: 担当者 | F66: ｅ-ｍａｉｌ
C67: 電話
B68: ※連絡先の電話番号は、午前９時から午後５時までにつながる番号を記入しください。
B69: ※e-mailアドレスは、振込報告を受信したいアドレスを記入してください。

Sheet 集計シート
B1: 申請日 | C1: 開設者住所 | D1: 開設者名 | E1: 代表者職 | F1: 氏名 | G1: 薬局名称 | H1: 住所 | I1: コード | J1: 申請額 | K1: 銀行コード | L1: 銀行名 | M1: 支店番号 | N1: 支店名 | O1: 預金種目 | P1: 口座番号 | Q1: 口座名 | R1: 合計金額
B2: =様式第1号!K1 -> 0 | C2: =様式第1号!G5 -> 0 | D2: =様式第1号!G6 -> 0 | E2: =様式第1号!G7 -> 0 | F2: =様式第1号!K7 -> 0 | G2: =様式第1号!B16 -> 0 | H2: =様式第1号!E16 -> 0 | I2: =様式第1号!K16 -> 0 | J2: =様式第1号!L16 -> 0 | K2: =様式第1号!N51 | L2: =様式第1号!O51 | M2: =様式第1号!N52 | N2: =様式第1号!O52 | O2: =様式第1号!N53 | P2: =様式第1号!O53 | Q2: =様式第1号!N54 | R2: =J32 -> 0
G3: =様式第1号!B17 -> 0 | H3: =様式第1号!E17 -> 0 | I3: =様式第1号!K17 -> 0 | J3: =様式第1号!L17 -> 0
G4: =様式第1号!B18 -> 0 | H4: =様式第1号!E18 -> 0 | I4: =様式第1号!K18 -> 0 | J4: =様式第1号!L18 -> 0
G5: =様式第1号!B19 -> 0 | H5: =様式第1号!E19 -> 0 | I5: =様式第1号!K19 -> 0 | J5: =様式第1号!L19 -> 0
G6: =様式第1号!B20 -> 0 | H6: =様式第1号!E20 -> 0 | I6: =様式第1号!K20 -> 0 | J6: =様式第1号!L20 -> 0
G7: =様式第1号!B21 -> 0 | H7: =様式第1号!E21 -> 0 | I7: =様式第1号!K21 -> 0 | J7: =様式第1号!L21 -> 0
G8: =様式第1号!B22 -> 0 | H8: =様式第1号!E22 -> 0 | I8: =様式第1号!K22 -> 0 | J8: =様式第1号!L22 -> 0
G9: =様式第1号!B23 -> 0 | H9: =様式第1号!E23 -> 0 | I9: =様式第1号!K23 -> 0 | J9: =様式第1号!L23 -> 0
G10: =様式第1号!B24 -> 0 | H10: =様式第1号!E24 -> 0 | I10: =様式第1号!K24 -> 0 | J10: =様式第1号!L24 -> 0
G11: =様式第1号!B25 -> 0 | H11: =様式第1号!E25 -> 0 | I11: =様式第1号!K25 -> 0 | J11: =様式第1号!L25 -> 0
G12: =様式第1号!B26 -> 0 | H12: =様式第1号!E26 -> 0 | I12: =様式第1号!K26 -> 0 | J12: =様式第1号!L26 -> 0
G13: =様式第1号!B27 -> 0 | H13: =様式第1号!E27 -> 0 | I13: =様式第1号!K27 -> 0 | J13: =様式第1号!L27 -> 0
G14: =様式第1号!B28 -> 0 | H14: =様式第1号!E28 -> 0 | I14: =様式第1号!K28 -> 0 | J14: =様式第1号!L28 -> 0
... G31: =様式第1号!B45 -> 0 | H31: =様式第1号!E45 -> 0 | I31: =様式第1号!K45 -> 0 | J31: =様式第1号!L45 -> 0
J32: =SUM(J2:J31) -> 0
